BEGIN:VCALENDAR
VERSION:2.0
PRODID:-//WHCO - ECPv6.15.20//NONSGML v1.0//EN
CALSCALE:GREGORIAN
METHOD:PUBLISH
X-ORIGINAL-URL:https://whco.music
X-WR-CALDESC:Events for WHCO
REFRESH-INTERVAL;VALUE=DURATION:PT1H
X-Robots-Tag:noindex
X-PUBLISHED-TTL:PT1H
BEGIN:VTIMEZONE
TZID:America/New_York
BEGIN:DAYLIGHT
TZOFFSETFROM:-0500
TZOFFSETTO:-0400
TZNAME:EDT
DTSTART:20240310T070000
END:DAYLIGHT
BEGIN:STANDARD
TZOFFSETFROM:-0400
TZOFFSETTO:-0500
TZNAME:EST
DTSTART:20241103T060000
END:STANDARD
BEGIN:DAYLIGHT
TZOFFSETFROM:-0500
TZOFFSETTO:-0400
TZNAME:EDT
DTSTART:20250309T070000
END:DAYLIGHT
BEGIN:STANDARD
TZOFFSETFROM:-0400
TZOFFSETTO:-0500
TZNAME:EST
DTSTART:20251102T060000
END:STANDARD
BEGIN:DAYLIGHT
TZOFFSETFROM:-0500
TZOFFSETTO:-0400
TZNAME:EDT
DTSTART:20260308T070000
END:DAYLIGHT
BEGIN:STANDARD
TZOFFSETFROM:-0400
TZOFFSETTO:-0500
TZNAME:EST
DTSTART:20261101T060000
END:STANDARD
BEGIN:DAYLIGHT
TZOFFSETFROM:-0500
TZOFFSETTO:-0400
TZNAME:EDT
DTSTART:20270314T070000
END:DAYLIGHT
BEGIN:STANDARD
TZOFFSETFROM:-0400
TZOFFSETTO:-0500
TZNAME:EST
DTSTART:20271107T060000
END:STANDARD
END:VTIMEZONE
BEGIN:VEVENT
DTSTART;TZID=America/New_York:20260110T193000
DTEND;TZID=America/New_York:20260110T210000
DTSTAMP:20260420T185447
CREATED:20250909T071835Z
LAST-MODIFIED:20251231T142418Z
UID:10000004-1768073400-1768078800@whco.music
SUMMARY:MainStage Concert: The People That Inspire Us
DESCRIPTION:Human connections can often be the spark that breathes life into great music. The People That Inspire Us begins with Revelry by trailblazing American composer and Imani Winds founder and WHCO Spotlight Composer\, Valerie Coleman. The work\, described by the composer as “a sensory guide to the reckless abandon that emerges when people congregate” pulses with rhythmic drive and jubilant energy. We continue with Clara Schumann’s Piano Trio in G minor\, inspiring not only because it was composed by a woman in a male-dominated musical world\, but because of its extraordinary emotional depth\, formal elegance\, and expressive power. Our program concludes with a rarely heard gem from Louise Farrenc\, a French Romantic composer and groundbreaking music educator. Her Nonet combines the textures of strings and winds in a richly melodic\, symphonic-scale chamber work. \nRepertoire\n\nValerie Coleman: Revelry\nClara Schumann: Piano Trio in G minor\, Op. 17\nLouise Farrenc: Nonet in E-Flat Major\, Op. 38\n\nThis concert will be approximately 1hr\, no intermission. Reception to follow.
URL:https://whco.music/event/mainstage-concert-the-people-that-inspire-us/
LOCATION:Our Saviour’s Atonement Lutheran Church\, 178 Bennett Avenue\, New York\, NY\, 10040\, United States
CATEGORIES:2025-26 Season,MainStage Concerts
ATTACH;FMTTYPE=image/png:https://whco.music/wp-content/uploads/2025/08/January-Mainstage-Square.png
END:VEVENT
BEGIN:VEVENT
DTSTART;TZID=America/New_York:20260110T141500
DTEND;TZID=America/New_York:20260110T154500
DTSTAMP:20260420T185447
CREATED:20250909T070541Z
LAST-MODIFIED:20250920T145304Z
UID:10000003-1768054500-1768059900@whco.music
SUMMARY:WHCO Family Concert: The People That Inspire Us
DESCRIPTION:Bring the whole family to our “Meet the Instruments” petting zoo where even our youngest listeners can get up close and personal with their favorite instruments before seeing them come alive onstage. Then find your seats for our enchanting and engaging Family concert! Narrator Sarah Ziegler will guide you through musical selections from our MainStage concert “The People that Inspire Us.“ \n\n2:15pm-2:45pm: Meet the Instruments\n3pm-3:45pm: Family Concert\n\nBest for children age 1-10 and their families.\n*All attendees must purchase a ticket. Infants under the age of 1 receive complimentary admission. \nWHCO Family concerts are relaxed performances.
URL:https://whco.music/event/whco-family-concert-the-people-that-inspire-us/
LOCATION:Our Saviour’s Atonement Lutheran Church\, 178 Bennett Avenue\, New York\, NY\, 10040\, United States
CATEGORIES:2025-26 Season,WHCO Family Concerts
ATTACH;FMTTYPE=image/png:https://whco.music/wp-content/uploads/2025/08/Family-Concert-Square-1.png
END:VEVENT
BEGIN:VEVENT
DTSTART;TZID=America/New_York:20251207T160000
DTEND;TZID=America/New_York:20251207T173000
DTSTAMP:20260420T185447
CREATED:20251109T212528Z
LAST-MODIFIED:20251120T190350Z
UID:10000010-1765123200-1765128600@whco.music
SUMMARY:El Mesías: Handel's Messiah for a New World
DESCRIPTION:This Spanish-language performance by Cornerstone Chorale features a version created by Mexican musician and librettist Mario Montenegro\, giving Handel’s original music a new twist! \nThe Chorale is joined by the Washington Heights Chamber Orchestra and will feature soloists Maria Brea (soprano)\, Guadalupe Peraza (mezzo-soprano)\, Cristóbal Arias (tenor)\, and Gilberto Gómez (baritone). Music Director Richard Stout conducts. \nSupport for this project comes from the New York City Department of Cultural Affairs\, the New York State Council on the Arts\, the Upper Manhattan Empowerment Zone Development Corporation\, Lower Manhattan Cultural Council\, and from the Medical Center Neighborhood Fund.
URL:https://whco.music/event/el-mesias-handels-messiah-for-a-new-world/
LOCATION:Holyrood Church\, 715 West 179th Street\, New York\, 10033\, United States
CATEGORIES:2025-26 Season
ATTACH;FMTTYPE=image/png:https://whco.music/wp-content/uploads/2025/11/Messiah-Dec-2025.png
END:VEVENT
BEGIN:VEVENT
DTSTART;TZID=America/New_York:20251115T193000
DTEND;TZID=America/New_York:20251115T210000
DTSTAMP:20260420T185447
CREATED:20250829T140256Z
LAST-MODIFIED:20250920T144954Z
UID:10000002-1763235000-1763240400@whco.music
SUMMARY:MainStage Concert: The Music That Inspires Us
DESCRIPTION:Composers often find inspiration from other music\, drawing from history\, tradition\, and artistic lineage. The Music That Inspires Us begins with Reena Esmail’s Avartan\, a transcendent fusion of Indian and Western classical traditions. Next on the program is Caroline Shaw’s Entr’acte for string orchestra. Written in 2011\, the piece was inspired by a moment in a Haydn string quartet where the music suddenly shifts in tone and texture. Shaw describes Entr’acte as “taking you to the other side of Alice’s looking glass\,” a kind of musical portal that begins in a classical idiom and gradually distorts it. We will conclude the program with Igor Stravinsky’s Pulcinella Suite. Taken from his ballet on the Italian commedia dell’arte character\, the Pulcinella Suite is a witty and colorful homage to 18th-century Italian Baroque music filtered through Stravinsky’s modernist lens. \nRepertoire\n\nReena Esmail: Avartan\nCaroline Shaw: Entr’acte\nIgor Stravinsky: Pulcinella Suite\n\nThis concert will be approximately 1hr\, no intermission. Reception to follow.
URL:https://whco.music/event/the-music-that-inspires-us/
LOCATION:Our Saviour’s Atonement Lutheran Church\, 178 Bennett Avenue\, New York\, NY\, 10040\, United States
CATEGORIES:2025-26 Season,MainStage Concerts
ATTACH;FMTTYPE=image/png:https://whco.music/wp-content/uploads/2025/08/November-Mainstage-Square.png
END:VEVENT
BEGIN:VEVENT
DTSTART;TZID=America/New_York:20251115T141500
DTEND;TZID=America/New_York:20251115T154500
DTSTAMP:20260420T185447
CREATED:20250820T154325Z
LAST-MODIFIED:20250920T224126Z
UID:10000001-1763216100-1763221500@whco.music
SUMMARY:WHCO Family Concert: The Music That Inspires Us
DESCRIPTION:Bring the whole family to our “Meet the Instruments” petting zoo where even our youngest listeners can get up close and personal with their favorite instruments before seeing them come alive onstage. Then find your seats for our enchanting and engaging Family concert! Narrator Sarah Ziegler will guide you through musical selections from our MainStage concert “The Music that Inspires Us.” \n\n2:15pm-2:45pm: Meet the Instruments\n3pm-3:45pm: Family Concert\n\nBest for children age 1-10 and their families.\n*All attendees must purchase a ticket. Infants under the age of 1 receive complimentary admission. \nWHCO Family concerts are relaxed performances.
URL:https://whco.music/event/whco-family-concert-the-music-that-inspires-us/
LOCATION:Our Saviour’s Atonement Lutheran Church\, 178 Bennett Avenue\, New York\, NY\, 10040\, United States
CATEGORIES:2025-26 Season,WHCO Family Concerts
ATTACH;FMTTYPE=image/png:https://whco.music/wp-content/uploads/2025/08/Family-Concert-Square-1.png
END:VEVENT
END:VCALENDAR