BEGIN:VCALENDAR
VERSION:2.0
PRODID:-//WHCO - ECPv6.15.20//NONSGML v1.0//EN
CALSCALE:GREGORIAN
METHOD:PUBLISH
X-WR-CALNAME:WHCO
X-ORIGINAL-URL:https://whco.music
X-WR-CALDESC:Events for WHCO
REFRESH-INTERVAL;VALUE=DURATION:PT1H
X-Robots-Tag:noindex
X-PUBLISHED-TTL:PT1H
BEGIN:VTIMEZONE
TZID:America/New_York
BEGIN:DAYLIGHT
TZOFFSETFROM:-0500
TZOFFSETTO:-0400
TZNAME:EDT
DTSTART:20250309T070000
END:DAYLIGHT
BEGIN:STANDARD
TZOFFSETFROM:-0400
TZOFFSETTO:-0500
TZNAME:EST
DTSTART:20251102T060000
END:STANDARD
BEGIN:DAYLIGHT
TZOFFSETFROM:-0500
TZOFFSETTO:-0400
TZNAME:EDT
DTSTART:20260308T070000
END:DAYLIGHT
BEGIN:STANDARD
TZOFFSETFROM:-0400
TZOFFSETTO:-0500
TZNAME:EST
DTSTART:20261101T060000
END:STANDARD
BEGIN:DAYLIGHT
TZOFFSETFROM:-0500
TZOFFSETTO:-0400
TZNAME:EDT
DTSTART:20270314T070000
END:DAYLIGHT
BEGIN:STANDARD
TZOFFSETFROM:-0400
TZOFFSETTO:-0500
TZNAME:EST
DTSTART:20271107T060000
END:STANDARD
END:VTIMEZONE
BEGIN:VEVENT
DTSTART;TZID=America/New_York:20260426T160000
DTEND;TZID=America/New_York:20260426T164500
DTSTAMP:20260420T100551
CREATED:20260107T061049Z
LAST-MODIFIED:20260107T145823Z
UID:10000013-1777219200-1777221900@whco.music
SUMMARY:Storytime with the Symphony
DESCRIPTION:Featuring:\nAt Night by Margaret Peot\nWHCO Instrument Family: Strings \n\n\nThe Washington Heights Chamber Orchestra presents Storytime with the Symphony\, a three-concert series in partnership with Word Up Community Bookshop. Each program features stories and music with thoughtful connections to themes familiar to children growing up in Washington Heights\, with bilingual narration in English and Spanish. All performances take place at Recirculation\, a project of Word Up Community Bookshop. \nThis concert series is generously supported by the following: The Fountain Bookshop\, New World Symphony\, and the Medical Center Neighborhood Fund.
URL:https://whco.music/event/storytime-with-the-symphony-3/
LOCATION:Recirculation\, 876 Riverside Dr\, New York\, NY\, 10032\, United States
CATEGORIES:2025-26 Season,Storytime With The Symphony
ATTACH;FMTTYPE=image/png:https://whco.music/wp-content/uploads/2025/11/Storytime-Square.png
END:VEVENT
BEGIN:VEVENT
DTSTART;TZID=America/New_York:20260517T160000
DTEND;TZID=America/New_York:20260517T164500
DTSTAMP:20260420T100551
CREATED:20251231T084310Z
LAST-MODIFIED:20260302T200658Z
UID:10000011-1779033600-1779036300@whco.music
SUMMARY:Storytime with the Symphony
DESCRIPTION:RESCHEDULED from February 22nd \nFeaturing:\nBecause by Mo Willems and Amber Ren\nWHCO Instrument Family: Brass \n\n\nThe Washington Heights Chamber Orchestra presents Storytime with the Symphony\, a three-concert series in partnership with Word Up Community Bookshop. Each program features stories and music with thoughtful connections to themes familiar to children growing up in Washington Heights\, with bilingual narration in English and Spanish. All performances take place at Recirculation\, a project of Word Up Community Bookshop. \nThis concert series is generously supported by the following: The Fountain Bookshop\, New World Symphony\, and the Medical Center Neighborhood Fund.
URL:https://whco.music/event/storytime-with-the-symphony-2/
LOCATION:Recirculation\, 876 Riverside Dr\, New York\, NY\, 10032\, United States
CATEGORIES:2025-26 Season,Storytime With The Symphony
ATTACH;FMTTYPE=image/png:https://whco.music/wp-content/uploads/2025/11/Storytime-Square.png
END:VEVENT
BEGIN:VEVENT
DTSTART;TZID=America/New_York:20260531T150000
DTEND;TZID=America/New_York:20260531T160000
DTSTAMP:20260420T100551
CREATED:20260409T042628Z
LAST-MODIFIED:20260410T030009Z
UID:10000014-1780239600-1780243200@whco.music
SUMMARY:Summer Picnic Concert: Exponential Ensemble
DESCRIPTION:Founded in 2011 by clarinetist Pascal Archer\, Exponential Ensemble is a mixed chamber music collective that comprises New York City’s top-notch performers and teaching artists. Each season the ensemble presents compelling programs that include both classic masterworks and contemporary masterpieces to a variety of audiences. \nThis performance takes place in Fort Tryon Park at the Café Lawn. We recommend following your GPS to the Bonnefont Restaurant or entering the park near Margaret Corbin Circle and looking for the WHCO concert sign! Don’t miss the chance to wander around the beautiful Heather Gardens or check out the Met’s Cloisters Museum while you’re in the area. \n\n\n\n\n\n\n\nThese concerts are free and open to the public. Guests are encouraged to bring their own picnic\, blankets\, or chairs\, and we kindly ask that you help maintain the cleanliness and care of our shared public spaces.
URL:https://whco.music/event/summer-picnic-concert-1/
LOCATION:Fort Tryon Park: Cafe Lawn\, Margaret Corbin Circle\, New York\, 10040\, United States
CATEGORIES:2025-26 Season,Summer Picnic Concerts
ATTACH;FMTTYPE=image/png:https://whco.music/wp-content/uploads/2026/04/Summer-Picnic-Square.png
END:VEVENT
BEGIN:VEVENT
DTSTART;TZID=America/New_York:20260620T143000
DTEND;TZID=America/New_York:20260620T153000
DTSTAMP:20260420T100551
CREATED:20260410T023444Z
LAST-MODIFIED:20260410T030227Z
UID:10000015-1781965800-1781969400@whco.music
SUMMARY:Summer Picnic Concert: Trio Fadolín
DESCRIPTION:Trio Fadolín is a new ensemble with a unique sonority — featuring Sabina Torosjan on violin\, Valeriya Sholokhova on cello\, and Ljova\, performing on the fadolín – a new instrument that encompasses the range of the violin\, viola\, and most of the cello\, finding its footing in an acoustic chamber music setting for the first time \nThis performance takes place at the Morris-Jumel Mansion. Built in 1765\, it is Manhattan’s oldest surviving residence and was once the headquarters of General George Washington. Don’t miss a stroll down picturesque and historic Jumel Terrace while you’re here! \n\n\n\n\n\n\n\nThese concerts are free and open to the public. Guests are encouraged to bring their own picnic\, blankets\, or chairs\, and we kindly ask that you help maintain the cleanliness and care of our shared public spaces.
URL:https://whco.music/event/summer-picnic-concert-2/
LOCATION:Morris-Jumel Mansion\, 65 Jumel Terrace\, New York\, NY\, 10032\, United States
CATEGORIES:2025-26 Season,Summer Picnic Concerts
ATTACH;FMTTYPE=image/png:https://whco.music/wp-content/uploads/2026/04/Summer-Picnic-Square.png
END:VEVENT
BEGIN:VEVENT
DTSTART;TZID=America/New_York:20260718T160000
DTEND;TZID=America/New_York:20260718T170000
DTSTAMP:20260420T100551
CREATED:20260410T025343Z
LAST-MODIFIED:20260410T030410Z
UID:10000017-1784390400-1784394000@whco.music
SUMMARY:Summer Picnic Concert: Calliope Brass
DESCRIPTION:American quintet Calliope Brass collaborates with the world’s most prominent creatives to build evocative\, story-driven concert experiences for a variety of audiences. Inspired by the eponymous storytelling muse in Greek mythology\, Calliope Brass (pronounced “Kuh-LIE-uh-pea”) is most known for its innovative approach to creating interactive concert experiences. \nThis performance takes place at Bennett Park\, near the flagpole. The park contains the highest natural elevation in Manhattan\, at 265.05 feet above sea level. Bathrooms can be found in the playground area nearby. After the concert be sure to visit one of our many nearby WHCO sponsors including Tinto Tapas Restaurant\, the Fountain Bookshop\, Dutch Baby Bakery\, Tampopo Kitchen\, and Refried Beans! \n\n\n\n\n\n\n\nThese concerts are free and open to the public. Guests are encouraged to bring their own picnic\, blankets\, or chairs\, and we kindly ask that you help maintain the cleanliness and care of our shared public spaces. \nThe rain date for this event is July 19th at 4pm
URL:https://whco.music/event/summer-picnic-concert-3/
LOCATION:Bennett Park\, W 183rd St &\, Fort Washington Ave\, New York\, 10033\, United States
CATEGORIES:2025-26 Season,Summer Picnic Concerts
ATTACH;FMTTYPE=image/png:https://whco.music/wp-content/uploads/2026/04/Summer-Picnic-Square.png
END:VEVENT
END:VCALENDAR